BEGIN:VCALENDAR
PRODID:-//Microsoft Corporation//Outlook 12.0 MIMEDIR//EN
VERSION:2.0
CALSCALE:GREGORIAN
BEGIN:VEVENT
UID: 25861213-200c-49d0-9a7f-18f2ab32df48
SUMMARY:Piipäev (Projektipäev) Oru majas
DTSTAMP:20190311
DTSTART:20190311
DTEND:20190314
DURATION:P3D
LOCATION:Oru maja
DESCRIPTION: <p><strong>Link: </strong>https://ksg.edu.ee/et/sundmuste-kalender/piipaev-projektipaev-oru-majas</p><p><strong>Hind: </strong></p>
STATUS:CONFIRMED
SEQUENCE:3
X-ALT-DESC;FMTTYPE=text/html:<p><strong>Link: </strong>https://ksg.edu.ee/et/sundmuste-kalender/piipaev-projektipaev-oru-majas</p><p><strong>Hind: </strong></p>
X-MICROSOFT-CDO-BUSYSTATUS:OOF
X-MICROSOFT-CDO-IMPORTANCE:1
X-MICROSOFT-DISALLOW-COUNTER:FALSE
X-MS-OLK-ALLOWEXTERNCHECK:TRUE
X-MS-OLK-CONFTYPE:0
X-MICROSOFT-CDO-ALLDAYEVENT:1
X-MICROSOFT-MSNCALENDAR-ALLDAYEVENT:1
END:VEVENT
END:VCALENDAR